BEGIN:VCALENDAR
VERSION:2.0
PRODID:-//Children and Parenting Support Service - ECPv4.2.7//NONSGML v1.0//EN
CALSCALE:GREGORIAN
METHOD:PUBLISH
X-WR-CALNAME:Children and Parenting Support Service
X-ORIGINAL-URL:http://capss.org.au
X-WR-CALDESC:Events for Children and Parenting Support Service
BEGIN:VEVENT
DTSTART;TZID=Australia/Melbourne:20171018T183000
DTEND;TZID=Australia/Melbourne:20171018T203000
DTSTAMP:20200302T074511
CREATED:20171030T045738
LAST-MODIFIED:20171030T045738
UID:1727-1508351400-1508358600@capss.org.au
SUMMARY:Dads Tuning in to Kids
DESCRIPTION:The Dads Tuning in to Kids™ Parenting Program helps Dads to build stronger  relationships with their children and enable them to communicate\, even in difficult times.\n\nThis program assists Dads to:\n\n-Be aware and regulate their own emotions\n\n-Be aware of their children’s emotions\n\n-Use children’s emotional experiences as an opportunity for closeness and teaching\n\n-Gain skills in assisting children to verbally label their emotions\n\n-Gain skills in assisting children in problem solving\n\nGuide children’s behaviour with appropriate limit
URL:http://capss.org.au/program/dads-tuning-in-to-kids-2/2017-10-18/
LOCATION:31 McKenzie St\, Melton\, VIC\, 3337\, Australia
CATEGORIES:Free,Worskhop
ATTACH;FMTTYPE=image/jpeg:http://capss.org.au/wp-content/uploads/2016/08/dad-hugging-child-small.jpg
END:VEVENT
END:VCALENDAR